Package: a4Core Version: 1.55.0 Command: /Library/Frameworks/R.framework/Resources/bin/R CMD build --keep-empty-dirs --no-resave-data a4Core StartedAt: 2025-02-03 16:06:04 -0500 (Mon, 03 Feb 2025) EndedAt: 2025-02-03 16:06:08 -0500 (Mon, 03 Feb 2025) EllapsedTime: 4.1 seconds RetCode: 0 Status: OK PackageFile: a4Core_1.55.0.tar.gz PackageFileSize: 290.5 KiB