Package: a4Core Version: 1.55.0 Command: /Library/Frameworks/R.framework/Resources/bin/R CMD INSTALL a4Core StartedAt: 2025-02-03 15:56:09 -0500 (Mon, 03 Feb 2025) EndedAt: 2025-02-03 15:56:12 -0500 (Mon, 03 Feb 2025) EllapsedTime: 2.7 seconds RetCode: 0 Status: OK