Package: a4Core Version: 1.55.0 Command: rm -rf a4Core.buildbin-libdir && mkdir a4Core.buildbin-libdir && E:\biocbuild\bbs-3.21-bioc\R\bin\R.exe CMD INSTALL --build --library=a4Core.buildbin-libdir a4Core_1.55.0.tar.gz StartedAt: 2025-02-04 07:25:24 -0500 (Tue, 04 Feb 2025) EndedAt: 2025-02-04 07:25:43 -0500 (Tue, 04 Feb 2025) EllapsedTime: 19.6 seconds RetCode: 0 Status: OK PackageFile: a4Core_1.55.0.zip PackageFileSize: 313.8 KiB