Package: a4Reporting Version: 1.55.0 Command: /Library/Frameworks/R.framework/Resources/bin/R CMD INSTALL a4Reporting StartedAt: 2025-02-09 15:01:32 -0500 (Sun, 09 Feb 2025) EndedAt: 2025-02-09 15:01:39 -0500 (Sun, 09 Feb 2025) EllapsedTime: 7.2 seconds RetCode: 0 Status: OK