Package: a4Reporting Version: 1.55.0 Command: /home/biocbuild/R/R/bin/R CMD INSTALL a4Reporting StartedAt: 2025-01-29 19:30:49 -0000 (Wed, 29 Jan 2025) EndedAt: 2025-01-29 19:31:14 -0000 (Wed, 29 Jan 2025) EllapsedTime: 25.1 seconds RetCode: 0 Status: OK