Package: a4Reporting Version: 1.55.0 Command: /home/biocbuild/bbs-3.21-bioc/R/bin/R CMD build --keep-empty-dirs --no-resave-data a4Reporting StartedAt: 2025-02-09 16:06:20 -0500 (Sun, 09 Feb 2025) EndedAt: 2025-02-09 16:06:25 -0500 (Sun, 09 Feb 2025) EllapsedTime: 5.0 seconds RetCode: 0 Status: OK PackageFile: a4Reporting_1.55.0.tar.gz PackageFileSize: 292.8 KiB