Package: a4Reporting Version: 1.55.0 Command: rm -rf a4Reporting.buildbin-libdir && mkdir a4Reporting.buildbin-libdir && E:\biocbuild\bbs-3.21-bioc\R\bin\R.exe CMD INSTALL --build --library=a4Reporting.buildbin-libdir a4Reporting_1.55.0.tar.gz StartedAt: 2025-02-13 07:21:42 -0500 (Thu, 13 Feb 2025) EndedAt: 2025-02-13 07:22:09 -0500 (Thu, 13 Feb 2025) EllapsedTime: 26.6 seconds RetCode: 0 Status: OK PackageFile: a4Reporting_1.55.0.zip PackageFileSize: 435.1 KiB