Package: a4Reporting Version: 1.55.0 Command: E:\biocbuild\bbs-3.21-bioc\R\bin\R.exe CMD INSTALL a4Reporting StartedAt: 2025-02-12 15:21:28 -0500 (Wed, 12 Feb 2025) EndedAt: 2025-02-12 15:21:38 -0500 (Wed, 12 Feb 2025) EllapsedTime: 9.2 seconds RetCode: 0 Status: OK