Package: abseqR Version: 1.25.0 Command: /home/biocbuild/R/R/bin/R CMD INSTALL abseqR StartedAt: 2025-01-29 20:08:10 -0000 (Wed, 29 Jan 2025) EndedAt: 2025-01-29 20:08:25 -0000 (Wed, 29 Jan 2025) EllapsedTime: 15.4 seconds RetCode: 0 Status: OK