Package: abseqR Version: 1.25.0 Command: /home/biocbuild/bbs-3.21-bioc/R/bin/R CMD INSTALL abseqR StartedAt: 2025-02-09 15:11:04 -0500 (Sun, 09 Feb 2025) EndedAt: 2025-02-09 15:11:22 -0500 (Sun, 09 Feb 2025) EllapsedTime: 17.4 seconds RetCode: 0 Status: OK