Package: abseqR Version: 1.25.0 Command: E:\biocbuild\bbs-3.21-bioc\R\bin\R.exe CMD check --no-multiarch --install=check:abseqR.install-out.txt --library=E:\biocbuild\bbs-3.21-bioc\R\library --no-vignettes --timings abseqR_1.25.0.tar.gz StartedAt: 2025-02-09 22:29:06 -0500 (Sun, 09 Feb 2025) EndedAt: 2025-02-09 22:31:57 -0500 (Sun, 09 Feb 2025) EllapsedTime: 171.1 seconds RetCode: 0 Status: OK CheckDir: abseqR.Rcheck Warnings: 0