Package: acde Version: 1.37.0 Command: /Library/Frameworks/R.framework/Resources/bin/R CMD check --install=check:acde.install-out.txt --library=/Library/Frameworks/R.framework/Resources/library --no-vignettes --timings acde_1.37.0.tar.gz StartedAt: 2025-02-09 17:58:59 -0500 (Sun, 09 Feb 2025) EndedAt: 2025-02-09 17:59:25 -0500 (Sun, 09 Feb 2025) EllapsedTime: 26.3 seconds RetCode: 0 Status: OK CheckDir: acde.Rcheck Warnings: 0