Package: acde Version: 1.37.0 Command: rm -rf acde.buildbin-libdir && mkdir acde.buildbin-libdir && E:\biocbuild\bbs-3.21-bioc\R\bin\R.exe CMD INSTALL --build --library=acde.buildbin-libdir acde_1.37.0.tar.gz StartedAt: 2025-02-10 07:09:56 -0500 (Mon, 10 Feb 2025) EndedAt: 2025-02-10 07:10:13 -0500 (Mon, 10 Feb 2025) EllapsedTime: 17.1 seconds RetCode: 0 Status: OK PackageFile: acde_1.37.0.zip PackageFileSize: 8.077 MiB