Package: adSplit Version: 1.77.0 Command: rm -rf adSplit.buildbin-libdir && mkdir adSplit.buildbin-libdir && /Users/biocbuild/BBS/utils/build-universal.sh adSplit_1.77.0.tar.gz /Library/Frameworks/R.framework/Resources/bin/R adSplit.buildbin-libdir StartedAt: 2025-02-10 00:41:06 -0500 (Mon, 10 Feb 2025) EndedAt: 2025-02-10 00:41:38 -0500 (Mon, 10 Feb 2025) EllapsedTime: 32.4 seconds RetCode: 0 Status: OK PackageFile: adSplit_1.77.0.tgz PackageFileSize: 561.2 KiB