Package: adSplit Version: 1.77.0 Command: /Library/Frameworks/R.framework/Resources/bin/R CMD build --keep-empty-dirs --no-resave-data adSplit StartedAt: 2025-02-12 15:50:30 -0500 (Wed, 12 Feb 2025) EndedAt: 2025-02-12 15:52:53 -0500 (Wed, 12 Feb 2025) EllapsedTime: 142.2 seconds RetCode: 0 Status: OK PackageFile: adSplit_1.77.0.tar.gz PackageFileSize: 536.6 KiB