Package: adSplit Version: 1.77.0 Command: /Library/Frameworks/R.framework/Resources/bin/R CMD check --install=check:adSplit.install-out.txt --library=/Library/Frameworks/R.framework/Resources/library --no-vignettes --timings adSplit_1.77.0.tar.gz StartedAt: 2025-02-12 18:50:00 -0500 (Wed, 12 Feb 2025) EndedAt: 2025-02-12 18:55:04 -0500 (Wed, 12 Feb 2025) EllapsedTime: 303.6 seconds RetCode: 0 Status: OK CheckDir: adSplit.Rcheck Warnings: 0