Package: adSplit Version: 1.77.0 Command: /home/biocbuild/bbs-3.21-bioc/R/bin/R CMD build --keep-empty-dirs --no-resave-data adSplit StartedAt: 2025-02-09 16:06:21 -0500 (Sun, 09 Feb 2025) EndedAt: 2025-02-09 16:08:15 -0500 (Sun, 09 Feb 2025) EllapsedTime: 113.2 seconds RetCode: 0 Status: OK PackageFile: adSplit_1.77.0.tar.gz PackageFileSize: 536.7 KiB