Package: adSplit Version: 1.77.0 Command: /home/biocbuild/bbs-3.21-bioc/R/bin/R CMD check --install=check:adSplit.install-out.txt --library=/home/biocbuild/bbs-3.21-bioc/R/site-library --timings adSplit_1.77.0.tar.gz StartedAt: 2025-02-09 19:54:34 -0500 (Sun, 09 Feb 2025) EndedAt: 2025-02-09 20:00:12 -0500 (Sun, 09 Feb 2025) EllapsedTime: 338.6 seconds RetCode: 0 Status: OK CheckDir: adSplit.Rcheck Warnings: 0