Package: adSplit Version: 1.77.0 Command: /home/biocbuild/bbs-3.21-bioc/R/bin/R CMD INSTALL adSplit StartedAt: 2025-02-12 15:38:29 -0500 (Wed, 12 Feb 2025) EndedAt: 2025-02-12 15:38:46 -0500 (Wed, 12 Feb 2025) EllapsedTime: 16.9 seconds RetCode: 0 Status: OK