Package: adductomicsR Version: 1.23.0 Command: /Library/Frameworks/R.framework/Resources/bin/R CMD build --keep-empty-dirs --no-resave-data adductomicsR StartedAt: 2025-02-12 15:31:15 -0500 (Wed, 12 Feb 2025) EndedAt: 2025-02-12 15:32:58 -0500 (Wed, 12 Feb 2025) EllapsedTime: 103.2 seconds RetCode: 0 Status: OK PackageFile: adductomicsR_1.23.0.tar.gz PackageFileSize: 752 KiB