Package: adductomicsR Version: 1.23.0 Command: /home/biocbuild/R/R/bin/R CMD build --keep-empty-dirs --no-resave-data adductomicsR StartedAt: 2025-01-28 20:42:27 -0000 (Tue, 28 Jan 2025) EndedAt: 2025-01-28 21:22:28 -0000 (Tue, 28 Jan 2025) EllapsedTime: 2400.8 seconds RetCode: None Status: TIMEOUT PackageFile: None PackageFileSize: NA