Package: adductomicsR Version: 1.23.0 Command: /home/biocbuild/R/R/bin/R CMD INSTALL adductomicsR StartedAt: 2025-01-29 20:14:52 -0000 (Wed, 29 Jan 2025) EndedAt: 2025-01-29 20:15:25 -0000 (Wed, 29 Jan 2025) EllapsedTime: 33.1 seconds RetCode: 0 Status: OK