Package: adductomicsR Version: 1.23.0 Command: rm -rf adductomicsR.buildbin-libdir && mkdir adductomicsR.buildbin-libdir && /Users/biocbuild/BBS/utils/build-universal.sh adductomicsR_1.23.0.tar.gz /Library/Frameworks/R.framework/Resources/bin/R adductomicsR.buildbin-libdir StartedAt: 2025-02-10 00:41:06 -0500 (Mon, 10 Feb 2025) EndedAt: 2025-02-10 00:41:45 -0500 (Mon, 10 Feb 2025) EllapsedTime: 39.4 seconds RetCode: 0 Status: OK PackageFile: adductomicsR_1.23.0.tgz PackageFileSize: 1.227 MiB