Package: adductomicsR Version: 1.23.0 Command: /Library/Frameworks/R.framework/Resources/bin/R CMD check --install=check:adductomicsR.install-out.txt --library=/Library/Frameworks/R.framework/Resources/library --no-vignettes --timings adductomicsR_1.23.0.tar.gz StartedAt: 2025-02-09 18:58:38 -0500 (Sun, 09 Feb 2025) EndedAt: 2025-02-09 19:02:47 -0500 (Sun, 09 Feb 2025) EllapsedTime: 248.8 seconds RetCode: 0 Status: WARNINGS CheckDir: adductomicsR.Rcheck Warnings: 1