Package: adductomicsR Version: 1.23.0 Command: /Library/Frameworks/R.framework/Resources/bin/R CMD INSTALL adductomicsR StartedAt: 2025-02-09 15:31:12 -0500 (Sun, 09 Feb 2025) EndedAt: 2025-02-09 15:31:44 -0500 (Sun, 09 Feb 2025) EllapsedTime: 32.9 seconds RetCode: 0 Status: OK