Package: adductomicsR Version: 1.23.0 Command: /home/biocbuild/bbs-3.21-bioc/R/bin/R CMD build --keep-empty-dirs --no-resave-data adductomicsR StartedAt: 2025-02-09 16:06:20 -0500 (Sun, 09 Feb 2025) EndedAt: 2025-02-09 16:07:36 -0500 (Sun, 09 Feb 2025) EllapsedTime: 76.1 seconds RetCode: 0 Status: OK PackageFile: adductomicsR_1.23.0.tar.gz PackageFileSize: 752.1 KiB