Package: adductomicsR Version: 1.23.0 Command: /home/biocbuild/bbs-3.21-bioc/R/bin/R CMD check --install=check:adductomicsR.install-out.txt --library=/home/biocbuild/bbs-3.21-bioc/R/site-library --timings adductomicsR_1.23.0.tar.gz StartedAt: 2025-02-09 19:54:34 -0500 (Sun, 09 Feb 2025) EndedAt: 2025-02-09 20:00:25 -0500 (Sun, 09 Feb 2025) EllapsedTime: 351.6 seconds RetCode: 0 Status: WARNINGS CheckDir: adductomicsR.Rcheck Warnings: 1