Package: adverSCarial Version: 1.5.0 Command: /Library/Frameworks/R.framework/Resources/bin/R CMD check --install=check:adverSCarial.install-out.txt --library=/Library/Frameworks/R.framework/Resources/library --no-vignettes --timings adverSCarial_1.5.0.tar.gz StartedAt: 2025-02-09 17:59:25 -0500 (Sun, 09 Feb 2025) EndedAt: 2025-02-09 18:00:03 -0500 (Sun, 09 Feb 2025) EllapsedTime: 37.6 seconds RetCode: 0 Status: WARNINGS CheckDir: adverSCarial.Rcheck Warnings: 2