Package: adverSCarial Version: 1.5.0 Command: /home/biocbuild/R/R/bin/R CMD build --keep-empty-dirs --no-resave-data adverSCarial StartedAt: 2025-01-29 20:45:41 -0000 (Wed, 29 Jan 2025) EndedAt: 2025-01-29 20:46:16 -0000 (Wed, 29 Jan 2025) EllapsedTime: 35.0 seconds RetCode: 0 Status: OK PackageFile: adverSCarial_1.5.0.tar.gz PackageFileSize: 167.6 KiB