Package: adverSCarial Version: 1.5.0 Command: /home/biocbuild/bbs-3.21-bioc/R/bin/R CMD build --keep-empty-dirs --no-resave-data adverSCarial StartedAt: 2025-02-09 16:06:25 -0500 (Sun, 09 Feb 2025) EndedAt: 2025-02-09 16:06:48 -0500 (Sun, 09 Feb 2025) EllapsedTime: 23.1 seconds RetCode: 0 Status: OK PackageFile: adverSCarial_1.5.0.tar.gz PackageFileSize: 167.6 KiB