Package: adverSCarial Version: 1.5.0 Command: rm -rf adverSCarial.buildbin-libdir && mkdir adverSCarial.buildbin-libdir && E:\biocbuild\bbs-3.21-bioc\R\bin\R.exe CMD INSTALL --build --library=adverSCarial.buildbin-libdir adverSCarial_1.5.0.tar.gz StartedAt: 2025-02-10 07:09:56 -0500 (Mon, 10 Feb 2025) EndedAt: 2025-02-10 07:10:40 -0500 (Mon, 10 Feb 2025) EllapsedTime: 43.3 seconds RetCode: 0 Status: OK PackageFile: adverSCarial_1.5.0.zip PackageFileSize: 383.3 KiB