Package: adverSCarial Version: 1.5.0 Command: chmod a+r adverSCarial -R && E:\biocbuild\bbs-3.21-bioc\R\bin\R.exe CMD build --keep-empty-dirs --no-resave-data adverSCarial StartedAt: 2025-02-09 17:09:21 -0500 (Sun, 09 Feb 2025) EndedAt: 2025-02-09 17:10:15 -0500 (Sun, 09 Feb 2025) EllapsedTime: 54.1 seconds RetCode: 0 Status: OK PackageFile: adverSCarial_1.5.0.tar.gz PackageFileSize: 168.7 KiB