Package: adverSCarial Version: 1.5.0 Command: E:\biocbuild\bbs-3.21-bioc\R\bin\R.exe CMD check --no-multiarch --install=check:adverSCarial.install-out.txt --library=E:\biocbuild\bbs-3.21-bioc\R\library --no-vignettes --timings adverSCarial_1.5.0.tar.gz StartedAt: 2025-02-09 22:29:06 -0500 (Sun, 09 Feb 2025) EndedAt: 2025-02-09 22:32:14 -0500 (Sun, 09 Feb 2025) EllapsedTime: 187.8 seconds RetCode: 0 Status: WARNINGS CheckDir: adverSCarial.Rcheck Warnings: 2