Package: adverSCarial Version: 1.5.0 Command: E:\biocbuild\bbs-3.21-bioc\R\bin\R.exe CMD INSTALL adverSCarial StartedAt: 2025-02-12 15:52:42 -0500 (Wed, 12 Feb 2025) EndedAt: 2025-02-12 15:53:06 -0500 (Wed, 12 Feb 2025) EllapsedTime: 24.1 seconds RetCode: 0 Status: OK