Package: affy Version: 1.85.1 Command: /Library/Frameworks/R.framework/Resources/bin/R CMD build --keep-empty-dirs --no-resave-data affy StartedAt: 2025-02-03 16:06:18 -0500 (Mon, 03 Feb 2025) EndedAt: 2025-02-03 16:06:47 -0500 (Mon, 03 Feb 2025) EllapsedTime: 29.4 seconds RetCode: 0 Status: OK PackageFile: affy_1.85.1.tar.gz PackageFileSize: 1.685 MiB