Package: affy Version: 1.85.1 Command: /Library/Frameworks/R.framework/Resources/bin/R CMD check --install=check:affy.install-out.txt --library=/Library/Frameworks/R.framework/Resources/library --no-vignettes --timings affy_1.85.1.tar.gz StartedAt: 2025-02-03 18:35:53 -0500 (Mon, 03 Feb 2025) EndedAt: 2025-02-03 18:36:51 -0500 (Mon, 03 Feb 2025) EllapsedTime: 58.8 seconds RetCode: 0 Status: WARNINGS CheckDir: affy.Rcheck Warnings: 1