Package: affy Version: 1.85.1 Command: /Library/Frameworks/R.framework/Resources/bin/R CMD INSTALL affy StartedAt: 2025-02-09 15:02:08 -0500 (Sun, 09 Feb 2025) EndedAt: 2025-02-09 15:02:12 -0500 (Sun, 09 Feb 2025) EllapsedTime: 4.3 seconds RetCode: 0 Status: OK