Package: affy Version: 1.85.1 Command: /Library/Frameworks/R.framework/Resources/bin/R CMD check --install=check:affy.install-out.txt --library=/Library/Frameworks/R.framework/Resources/library --no-vignettes --timings affy_1.85.1.tar.gz StartedAt: 2025-02-09 18:58:38 -0500 (Sun, 09 Feb 2025) EndedAt: 2025-02-09 19:01:20 -0500 (Sun, 09 Feb 2025) EllapsedTime: 161.3 seconds RetCode: 0 Status: WARNINGS CheckDir: affy.Rcheck Warnings: 1