Package: affy Version: 1.85.1 Command: /Library/Frameworks/R.framework/Resources/bin/R CMD INSTALL affy StartedAt: 2025-02-09 15:05:26 -0500 (Sun, 09 Feb 2025) EndedAt: 2025-02-09 15:05:55 -0500 (Sun, 09 Feb 2025) EllapsedTime: 28.6 seconds RetCode: 0 Status: OK