Package: affy Version: 1.85.1 Command: /home/biocbuild/bbs-3.21-bioc/R/bin/R CMD build --keep-empty-dirs --no-resave-data affy StartedAt: 2025-02-04 16:04:37 -0500 (Tue, 04 Feb 2025) EndedAt: 2025-02-04 16:05:34 -0500 (Tue, 04 Feb 2025) EllapsedTime: 57.1 seconds RetCode: 0 Status: OK PackageFile: affy_1.85.1.tar.gz PackageFileSize: 1.684 MiB