Package: affy Version: 1.85.1 Command: /home/biocbuild/bbs-3.21-bioc/R/bin/R CMD check --install=check:affy.install-out.txt --library=/home/biocbuild/bbs-3.21-bioc/R/site-library --timings affy_1.85.1.tar.gz StartedAt: 2025-02-04 19:51:55 -0500 (Tue, 04 Feb 2025) EndedAt: 2025-02-04 19:54:43 -0500 (Tue, 04 Feb 2025) EllapsedTime: 168.3 seconds RetCode: 0 Status: WARNINGS CheckDir: affy.Rcheck Warnings: 1