Package: affyContam Version: 1.65.0 Command: /Library/Frameworks/R.framework/Resources/bin/R CMD INSTALL affyContam StartedAt: 2025-02-09 15:03:04 -0500 (Sun, 09 Feb 2025) EndedAt: 2025-02-09 15:03:10 -0500 (Sun, 09 Feb 2025) EllapsedTime: 6.2 seconds RetCode: 0 Status: OK