Package: affyContam Version: 1.65.0 Command: /Library/Frameworks/R.framework/Resources/bin/R CMD check --install=check:affyContam.install-out.txt --library=/Library/Frameworks/R.framework/Resources/library --no-vignettes --timings affyContam_1.65.0.tar.gz StartedAt: 2025-02-04 18:49:54 -0500 (Tue, 04 Feb 2025) EndedAt: 2025-02-04 18:50:59 -0500 (Tue, 04 Feb 2025) EllapsedTime: 64.4 seconds RetCode: 0 Status: OK CheckDir: affyContam.Rcheck Warnings: 0