Package: affyContam Version: 1.65.0 Command: /home/biocbuild/bbs-3.21-bioc/R/bin/R CMD build --keep-empty-dirs --no-resave-data affyContam StartedAt: 2025-02-09 16:06:33 -0500 (Sun, 09 Feb 2025) EndedAt: 2025-02-09 16:06:47 -0500 (Sun, 09 Feb 2025) EllapsedTime: 14.0 seconds RetCode: 0 Status: OK PackageFile: affyContam_1.65.0.tar.gz PackageFileSize: 502.4 KiB