Package: affyContam Version: 1.65.0 Command: /home/biocbuild/bbs-3.21-bioc/R/bin/R CMD INSTALL affyContam StartedAt: 2025-02-12 15:56:08 -0500 (Wed, 12 Feb 2025) EndedAt: 2025-02-12 15:56:11 -0500 (Wed, 12 Feb 2025) EllapsedTime: 3.1 seconds RetCode: 0 Status: OK