Package: affyContam Version: 1.65.0 Command: E:\biocbuild\bbs-3.21-bioc\R\bin\R.exe CMD check --no-multiarch --install=check:affyContam.install-out.txt --library=E:\biocbuild\bbs-3.21-bioc\R\library --no-vignettes --timings affyContam_1.65.0.tar.gz StartedAt: 2025-02-04 22:56:00 -0500 (Tue, 04 Feb 2025) EndedAt: 2025-02-04 22:56:48 -0500 (Tue, 04 Feb 2025) EllapsedTime: 48.1 seconds RetCode: 0 Status: OK CheckDir: affyContam.Rcheck Warnings: 0