Package: affyContam Version: 1.65.0 Command: E:\biocbuild\bbs-3.21-bioc\R\bin\R.exe CMD INSTALL affyContam StartedAt: 2025-02-04 15:26:52 -0500 (Tue, 04 Feb 2025) EndedAt: 2025-02-04 15:27:02 -0500 (Tue, 04 Feb 2025) EllapsedTime: 9.6 seconds RetCode: 0 Status: OK