Package: affycomp Version: 1.83.0 Command: rm -rf affycomp.buildbin-libdir && mkdir affycomp.buildbin-libdir && /Users/biocbuild/BBS/utils/build-universal.sh affycomp_1.83.0.tar.gz /Library/Frameworks/R.framework/Resources/bin/R affycomp.buildbin-libdir StartedAt: 2025-02-09 22:05:17 -0500 (Sun, 09 Feb 2025) EndedAt: 2025-02-09 22:05:20 -0500 (Sun, 09 Feb 2025) EllapsedTime: 3.1 seconds RetCode: 0 Status: OK PackageFile: affycomp_1.83.0.tgz PackageFileSize: 8.108 MiB