Package: affycomp Version: 1.83.0 Command: /Library/Frameworks/R.framework/Resources/bin/R CMD build --keep-empty-dirs --no-resave-data affycomp StartedAt: 2025-02-12 15:31:25 -0500 (Wed, 12 Feb 2025) EndedAt: 2025-02-12 15:31:31 -0500 (Wed, 12 Feb 2025) EllapsedTime: 6.1 seconds RetCode: 0 Status: OK PackageFile: affycomp_1.83.0.tar.gz PackageFileSize: 7.98 MiB