Package: affycomp Version: 1.83.0 Command: /Library/Frameworks/R.framework/Resources/bin/R CMD check --install=check:affycomp.install-out.txt --library=/Library/Frameworks/R.framework/Resources/library --no-vignettes --timings affycomp_1.83.0.tar.gz StartedAt: 2025-02-12 18:00:13 -0500 (Wed, 12 Feb 2025) EndedAt: 2025-02-12 18:00:29 -0500 (Wed, 12 Feb 2025) EllapsedTime: 16.2 seconds RetCode: 0 Status: OK CheckDir: affycomp.Rcheck Warnings: 0